Workbook

Sheet Eingabe
C2: Auswertungshilfe SUGA - 22 Fragen für Sicheres und Gesundes Arbeiten
C4: Anzahl Fragebögen: | D4: 0
B6: Nr. | C6: Frage | D6: Anzahl "Trifft eher nicht zu" | E6: Anzahl "Trifft eher zu" | G6: Anzahl "Trifft eher nicht zu" | H6: Anzahl "Trifft eher zu" | I6: Anteil "Trifft eher nicht zu" | J6: Anteil "Trifft eher zu"
B7: 1 | C7: Das Miteinander mit meinen Kolleginnen und Kollegen ist von gegenseitiger Wertschätzung und Respekt geprägt. | E7: =IF(ISBLANK(D7),"automatisch berechnet",IF(($D$4-D7)>=0,$D$4-D7,"Fehler")) -> automatisch berechnet | F7: Wertschätzung und Respekt durch Kollegium | G7: =IF(ISNUMBER(D7),D7,"") | H7: =IF(ISNUMBER(E7),E7,"") | I7: =G7/$D$4 -> #VALUE! | J7: =H7/$D$4 -> #VALUE!
B8: 2 | C8: Bei Bedarf werde ich von meiner Führungskraft unterstützt. | E8: =IF(ISBLANK(D8),"automatisch berechnet",IF(($D$4-D8)>=0,$D$4-D8,"Fehler")) -> automatisch berechnet | F8: Unterstützung durch Führungskraft | G8: =IF(ISNUMBER(D8),D8,"") | H8: =IF(ISNUMBER(E8),E8,"") | I8: =G8/$D$4 -> #VALUE! | J8: =H8/$D$4 -> #VALUE!
B9: 3 | C9: Ich habe ausreichend Möglichkeiten zum fachlichen Austausch mit Kolleginnen und Kollegen. | E9: =IF(ISBLANK(D9),"automatisch berechnet",IF(($D$4-D9)>=0,$D$4-D9,"Fehler")) -> automatisch berechnet | F9: Ausreichende Möglichkeit zum fachlichen Austausch | G9: =IF(ISNUMBER(D9),D9,"") | H9: =IF(ISNUMBER(E9),E9,"") | I9: =G9/$D$4 -> #VALUE! | J9: =H9/$D$4 -> #VALUE!
B10: 4 | C10: Mit meiner Führungskraft besteht ein wertschätzendes und respektvolles Miteinander. | E10: =IF(ISBLANK(D10),"automatisch berechnet",IF(($D$4-D10)>=0,$D$4-D10,"Fehler")) -> automatisch berechnet | F10: Wertschätzung und Respekt durch Führungskraft | G10: =IF(ISNUMBER(D10),D10,"") | H10: =IF(ISNUMBER(E10),E10,"") | I10: =G10/$D$4 -> #VALUE! | J10: =H10/$D$4 -> #VALUE!
B11: 5 | C11: Ich erhalte von meinen Kolleginnen und Kollegen soziale Unterstützung, wenn ich sie brauche. | E11: =IF(ISBLANK(D11),"automatisch berechnet",IF(($D$4-D11)>=0,$D$4-D11,"Fehler")) -> automatisch berechnet | F11: Soziale Unterstützung durch Kollegium | G11: =IF(ISNUMBER(D11),D11,"") | H11: =IF(ISNUMBER(E11),E11,"") | I11: =G11/$D$4 -> #VALUE! | J11: =H11/$D$4 -> #VALUE!
B12: 6 | C12: Ich bin angemessen informiert, um meine Arbeitsaufgaben zu erledigen. | E12: =IF(ISBLANK(D12),"automatisch berechnet",IF(($D$4-D12)>=0,$D$4-D12,"Fehler")) -> automatisch berechnet | F12: Angemessene Information zu Arbeitsaufgabne | G12: =IF(ISNUMBER(D12),D12,"") | H12: =IF(ISNUMBER(E12),E12,"") | I12: =G12/$D$4 -> #VALUE! | J12: =H12/$D$4 -> #VALUE!
B13: 7 | C13: Ich erhalte von meiner Führungskraft Anerkennung für meine Arbeit. | E13: =IF(ISBLANK(D13),"automatisch berechnet",IF(($D$4-D13)>=0,$D$4-D13,"Fehler")) -> automatisch berechnet | F13: Annerkennung durch Führungskraft | G13: =IF(ISNUMBER(D13),D13,"") | H13: =IF(ISNUMBER(E13),E13,"") | I13: =G13/$D$4 -> #VALUE! | J13: =H13/$D$4 -> #VALUE!
B14: 8 | C14: Ich kann ohne häufige Störungen/Unterbrechungen arbeiten. | E14: =IF(ISBLANK(D14),"automatisch berechnet",IF(($D$4-D14)>=0,$D$4-D14,"Fehler")) -> automatisch berechnet | F14: keine häufigen Störungen/Unterbrechungen | G14: =IF(ISNUMBER(D14),D14,"") | H14: =IF(ISNUMBER(E14),E14,"") | I14: =G14/$D$4 -> #VALUE! | J14: =H14/$D$4 -> #VALUE!
B15: 9 | C15: Ich kann meine Pausen so gestalten, dass ich von der Arbeit abschalten kann. | E15: =IF(ISBLANK(D15),"automatisch berechnet",IF(($D$4-D15)>=0,$D$4-D15,"Fehler")) -> automatisch berechnet | F15: Möglichkeit zum Abschalten in Pausen | G15: =IF(ISNUMBER(D15),D15,"") | H15: =IF(ISNUMBER(E15),E15,"") | I15: =G15/$D$4 -> #VALUE! | J15: =H15/$D$4 -> #VALUE!
B16: 10 | C16: Ich werde bei meiner Arbeit häufig mit negativen Emotionen anderer Personen konfrontiert.* | E16: =IF(ISBLANK(D16),"automatisch berechnet",IF(($D$4-D16)>=0,$D$4-D16,"Fehler")) -> automatisch berechnet | F16: Häufige Konfrontation mit negativen Emotionen anderer* | G16: =E16 -> automatisch berechnet | H16: =D16 -> 0 | I16: =G16/$D$4 -> #VALUE! | J16: =H16/$D$4 -> #DIV/0!
B17: 11 | C17: Meine Arbeitsmenge und die dafür zur Verfügung stehende Zeit stehen in einem ausgewogenen Verhältnis zueinander. | E17: =IF(ISBLANK(D17),"automatisch berechnet",IF(($D$4-D17)>=0,$D$4-D17,"Fehler")) -> automatisch berechnet | F17: Ausgewogenes Verhältnis Arbeitsmenge - Arbeitszeit | G17: =IF(ISNUMBER(D17),D17,"") | H17: =IF(ISNUMBER(E17),E17,"") | I17: =G17/$D$4 -> #VALUE! | J17: =H17/$D$4 -> #VALUE!
B18: 12 | C18: Die Aufgaben und Zuständigkeiten in meinem Arbeitsbereich sind klar geregelt. | E18: =IF(ISBLANK(D18),"automatisch berechnet",IF(($D$4-D18)>=0,$D$4-D18,"Fehler")) -> automatisch berechnet | F18: Klar geregelte Aufgaben und Zuständigkeiten | G18: =IF(ISNUMBER(D18),D18,"") | H18: =IF(ISNUMBER(E18),E18,"") | I18: =G18/$D$4 -> #VALUE! | J18: =H18/$D$4 -> #VALUE!
B19: 13 | C19: Ich verfüge über die notwendigen Qualifikationen, die ich für meine Arbeit brauche. | E19: =IF(ISBLANK(D19),"automatisch berechnet",IF(($D$4-D19)>=0,$D$4-D19,"Fehler")) -> automatisch berechnet | F19: Passende Qualifikation | G19: =IF(ISNUMBER(D19),D19,"") | H19: =IF(ISNUMBER(E19),E19,"") | I19: =G19/$D$4 -> #VALUE! | J19: =H19/$D$4 -> #VALUE!
B20: 14 | C20: Die Umgebungsbedingungen bei meiner Arbeit (z. B. Lautstärke, Temperatur, Beleuchtung) sind für mich passend. | E20: =IF(ISBLANK(D20),"automatisch berechnet",IF(($D$4-D20)>=0,$D$4-D20,"Fehler")) -> automatisch berechnet | F20: Passende Umgebungsbedingungen | G20: =IF(ISNUMBER(D20),D20,"") | H20: =IF(ISNUMBER(E20),E20,"") | I20: =G20/$D$4 -> #VALUE! | J20: =H20/$D$4 -> #VALUE!
B21: 15 | C21: Meine Arbeitsaufgaben sind abwechslungsreich. | E21: =IF(ISBLANK(D21),"automatisch berechnet",IF(($D$4-D21)>=0,$D$4-D21,"Fehler")) -> automatisch berechnet | F21: Abwechslungsreiche Arbeitsaufgaben | G21: =IF(ISNUMBER(D21),D21,"") | H21: =IF(ISNUMBER(E21),E21,"") | I21: =G21/$D$4 -> #VALUE! | J21: =H21/$D$4 -> #VALUE!
B22: 16 | C22: Mein Arbeitsplatz ist so eingerichtet, dass ich gut ergonomisch arbeiten kann. | E22: =IF(ISBLANK(D22),"automatisch berechnet",IF(($D$4-D22)>=0,$D$4-D22,"Fehler")) -> automatisch berechnet | F22: Ergnomisch eingerichteter Arbeitsplatz | G22: =IF(ISNUMBER(D22),D22,"") | H22: =IF(ISNUMBER(E22),E22,"") | I22: =G22/$D$4 -> #VALUE! | J22: =H22/$D$4 -> #VALUE!
B23: 17 | C23: Die mir zur Verfügung gestellten Arbeitsmittel (z.B. Software, Hardware, Werkzeuge) sind für die Erfüllung meiner Arbeitsaufgaben geeignet. | E23: =IF(ISBLANK(D23),"automatisch berechnet",IF(($D$4-D23)>=0,$D$4-D23,"Fehler")) -> automatisch berechnet | F23: Zur Verfügung gestellte Arbeitsmittel geeignet | G23: =IF(ISNUMBER(D23),D23,"") | H23: =IF(ISNUMBER(E23),E23,"") | I23: =G23/$D$4 -> #VALUE! | J23: =H23/$D$4 -> #VALUE!
B24: 18 | C24: Ich kann selbst entscheiden, auf welche Art und Weise ich meine Arbeitsaufgaben erledige. | E24: =IF(ISBLANK(D24),"automatisch berechnet",IF(($D$4-D24)>=0,$D$4-D24,"Fehler")) -> automatisch berechnet | F24: Eigene Entscheidungsmöglichkeiten wie Aufgaben erledigt werden | G24: =IF(ISNUMBER(D24),D24,"") | H24: =IF(ISNUMBER(E24),E24,"") | I24: =G24/$D$4 -> #VALUE! | J24: =H24/$D$4 -> #VALUE!
B25: 19 | C25: Wenn ich Mehrarbeit leiste, kann ich diese zeitnah abbauen. | E25: =IF(ISBLANK(D25),"automatisch berechnet",IF(($D$4-D25)>=0,$D$4-D25,"Fehler")) -> automatisch berechnet | F25: Möglichkeit Mehrarbeit zeitnah abzubauen | G25: =IF(ISNUMBER(D25),D25,"") | H25: =IF(ISNUMBER(E25),E25,"") | I25: =G25/$D$4 -> #VALUE! | J25: =H25/$D$4 -> #VALUE!
B26: 20 | C26: Ich habe Einfluss auf die Planung meiner Arbeitszeiten. | E26: =IF(ISBLANK(D26),"automatisch berechnet",IF(($D$4-D26)>=0,$D$4-D26,"Fehler")) -> automatisch berechnet | F26: Einfluss auf Planung eigener Arbeitszeiten | G26: =IF(ISNUMBER(D26),D26,"") | H26: =IF(ISNUMBER(E26),E26,"") | I26: =G26/$D$4 -> #VALUE! | J26: =H26/$D$4 -> #VALUE!
B27: 21 | C27: Meine Tätigkeit ist mit einem erhöhten Risiko für traumatische Ereignisse (z. B. verbale oder tätliche Übergriffe, schwere Unfälle, Todesfälle) verbunden.* | E27: =IF(ISBLANK(D27),"automatisch berechnet",IF(($D$4-D27)>=0,$D$4-D27,"Fehler")) -> automatisch berechnet | F27: Erhöhtes Risiko für traumatische Ereignisse* | G27: =E27 -> automatisch berechnet | H27: =D27 -> 0 | I27: =G27/$D$4 -> #VALUE! | J27: =H27/$D$4 -> #DIV/0!
B28: 22 | C28: Die von mir zu erledigenden Aufgaben werden überwiegend von mir selbst vorbereitet, organisiert und geprüft. | E28: =IF(ISBLANK(D28),"automatisch berechnet",IF(($D$4-D28)>=0,$D$4-D28,"Fehler")) -> automatisch berechnet | F28: Vollständige Erledigung von Aufgaben | G28: =IF(ISNUMBER(D28),D28,"") | H28: =IF(ISNUMBER(E28),E28,"") | I28: =G28/$D$4 -> #VALUE! | J28: =H28/$D$4 -> #VALUE!

Sheet Auswertung
C42: *

Sheet Maßnahmenplan
A6: Belastung | B6: Risiko | C6: konkrete Problembeschreibung | D6: Ideen aus Lösungsworkshop | E6: Maßnahmen | F6: Wer? | G6: bis wann? | H6: erledigt? | I6: Wirksamkeit ja/nein
A7: Wertschätzung und Respekt durch Kollegium | B7: =Eingabe!D7/Eingabe!$D$4*100 -> #DIV/0!
A8: Unterstützung durch Führungskraft | B8: =Eingabe!D8/Eingabe!$D$4*100 -> #DIV/0!
A9: Ausreichende Möglichkeit zum fachlichen Austausch | B9: =Eingabe!D9/Eingabe!$D$4*100 -> #DIV/0!
A10: Wertschätzung und Respekt durch Führungskraft | B10: =Eingabe!D10/Eingabe!$D$4*100 -> #DIV/0!
A11: Soziale Unterstützung durch Kollegium | B11: =Eingabe!D11/Eingabe!$D$4*100 -> #DIV/0!
A12: Angemessene Information zu Arbeitsaufgaben | B12: =Eingabe!D12/Eingabe!$D$4*100 -> #DIV/0!
A13: Anerkennung durch Führungskraft | B13: =Eingabe!D13/Eingabe!$D$4*100 -> #DIV/0!
A14: Keine häufigen Störungen/Unterbrechungen | B14: =Eingabe!D14/Eingabe!$D$4*100 -> #DIV/0!
A15: Möglichkeit zum Abschalten in Pausen | B15: =Eingabe!D15/Eingabe!$D$4*100 -> #DIV/0!
A16: Häufige Konfrontation mit negativen Emotionen anderer | B16: =Eingabe!E16/Eingabe!$D$4*100 -> #VALUE!
A17: Ausgewogenes Verhältnis Arbeitsmenge - Arbeitszeit | B17: =Eingabe!D17/Eingabe!$D$4*100 -> #DIV/0!
A18: Klar geregelte Aufgaben und Zuständigkeiten | B18: =Eingabe!D18/Eingabe!$D$4*100 -> #DIV/0!
A19: Passende Qualifikation | B19: =Eingabe!D19/Eingabe!$D$4*100 -> #DIV/0!
A20: Passende Umgebungsbedingungen | B20: =Eingabe!D20/Eingabe!$D$4*100 -> #DIV/0!
A21: Abwechslungsreiche Arbeitsaufgaben | B21: =Eingabe!D21/Eingabe!$D$4*100 -> #DIV/0!
A22: Ergonomisch eingerichteter Arbeitsplatz | B22: =Eingabe!D22/Eingabe!$D$4*100 -> #DIV/0!
A23: Zur Verfügung gestellte Arbeitsmittel geeignet | B23: =Eingabe!D23/Eingabe!$D$4*100 -> #DIV/0!
A24: Eigene Entscheidungsmöglichkeiten wie Aufgaben erledigt werden | B24: =Eingabe!D24/Eingabe!$D$4*100 -> #DIV/0!
A25: Möglichkeit Mehrarbeit zeitnah abzubauen | B25: =Eingabe!D25/Eingabe!$D$4*100 -> #DIV/0!
A26: Einfluss auf Planung eigener Arbeitszeiten | B26: =Eingabe!D26/Eingabe!$D$4*100 -> #DIV/0!
A27: Erhöhtes Risiko für traumatische Ereignisse | B27: =Eingabe!E27/Eingabe!$D$4*100 -> #VALUE!
A28: Vollständige Erledigung von Aufgaben | B28: =Eingabe!D28/Eingabe!$D$4*100 -> #DIV/0!

Sheet Tabelle1
